BEGIN:VCALENDAR
VERSION:2.0
PRODID:-//Tukios.com/
BEGIN:VEVENT
UID:1a63ebb7-bdb6-45b4-b6eb-49fe72d8c282@www.gilbertsonfuneralhome.com
DTSTAMP:20260421T074138Z
DTSTART:20260502
SUMMARY:Funeral Service
DESCRIPTION:
URL:https://www.gilbertsonfuneralhome.com/obituaries/barbara-orness
LOCATION: 509 U.S. Rte 2  Devils Lake ND 58301
GEO:48.1001788;-98.8586133
END:VEVENT
END:VCALENDAR