BEGIN:VCALENDAR
VERSION:2.0
PRODID:-//Tukios.com/
BEGIN:VEVENT
UID:c5082234-8340-4784-af56-2198f7f5129d@www.gilbertsonfuneralhome.com
DTSTAMP:20260424T145312Z
DTSTART:20260427T220000Z
DTEND:20260428T000000Z
SUMMARY:Visitation
DESCRIPTION:
URL:https://www.gilbertsonfuneralhome.com/obituaries/curtis-bracken-sr
LOCATION:Gilbertson Funeral Home 509 U.S. Rte 2  Devils Lake ND 58301
GEO:48.1001788;-98.8586133
END:VEVENT
END:VCALENDAR