BEGIN:VCALENDAR
VERSION:2.0
PRODID:-//Tukios.com/
BEGIN:VEVENT
UID:601d3514-be90-4e8f-898d-2192a18552dd@www.gilbertsonfuneralhome.com
DTSTAMP:20260424T145134Z
DTSTART:20260428T000000Z
DTEND:20260428T010000Z
SUMMARY:Prayer Service
DESCRIPTION:
URL:https://www.gilbertsonfuneralhome.com/obituaries/curtis-bracken-sr
LOCATION: 509 U.S. Rte 2  Devils Lake ND 58301
GEO:48.1001788;-98.8586133
END:VEVENT
END:VCALENDAR