BEGIN:VCALENDAR
VERSION:2.0
PRODID:-//Tukios.com/
BEGIN:VEVENT
UID:0a0633b3-9f46-46b1-8d2c-6bbc4d958673@www.gilbertsonfuneralhome.com
DTSTAMP:20260424T145043Z
DTSTART:20260428T160000Z
DTEND:20260428T170000Z
SUMMARY:Funeral Service
DESCRIPTION:
URL:https://www.gilbertsonfuneralhome.com/obituaries/curtis-bracken-sr
LOCATION:North Prairie Church rural Leeds Rural Leeds Leeds ND 58346
GEO:48.2888882;-99.4376352
END:VEVENT
END:VCALENDAR