BEGIN:VCALENDAR
VERSION:2.0
PRODID:-//Tukios.com/
BEGIN:VEVENT
UID:ddb4aaa5-7cc1-482c-a60e-e1d6db7c668e@www.gilbertsonfuneralhome.com
DTSTAMP:20260423T155457Z
DTSTART:20260522T160000Z
DTEND:20260522T170000Z
SUMMARY:Burial
DESCRIPTION:
URL:https://www.gilbertsonfuneralhome.com/obituaries/janet-staples
LOCATION:Finnish Cemetery Rural Brocket  Brocket ND 58321
GEO:48.2165979;-98.3518215
END:VEVENT
END:VCALENDAR