BEGIN:VCALENDAR
VERSION:2.0
PRODID:-//Tukios.com/
BEGIN:VEVENT
UID:e8896b4f-2dd6-42b5-ae15-a44f76c9c1ec@www.gilbertsonfuneralhome.com
DTSTAMP:20260421T092700Z
DTSTART:20260425T213000Z
DTEND:20260425T223000Z
SUMMARY:Funeral Service
DESCRIPTION:
URL:https://www.gilbertsonfuneralhome.com/obituaries/ulysses-jones
LOCATION:River of Life, Assembly of God Church 509 U.S. 2  Devils Lake ND 
	58301
GEO:48.1108775;-98.8702104
END:VEVENT
END:VCALENDAR