BEGIN:VCALENDAR
VERSION:2.0
PRODID:-//Tukios.com/
BEGIN:VEVENT
UID:0b600912-6233-4d00-b134-5a5098796a08@www.gilbertsonfuneralhome.com
DTSTAMP:20260421T092900Z
DTSTART:20260427T153000Z
DTEND:20260427T163000Z
SUMMARY:Burial
DESCRIPTION:
URL:https://www.gilbertsonfuneralhome.com/obituaries/ulysses-jones
LOCATION:Sunset Memorial Gardens 509 South University Drive  Fargo ND 
	58103
GEO:46.8691519;-96.7987819
END:VEVENT
END:VCALENDAR